Package: circRNAprofiler Version: 1.18.0 Command: /home/biocbuild/R/R-beta-2024-04-15_r86425/bin/R CMD check --install=check:circRNAprofiler.install-out.txt --library=/home/biocbuild/R/R-beta-2024-04-15_r86425/site-library --no-vignettes --timings circRNAprofiler_1.18.0.tar.gz StartedAt: 2024-05-09 05:51:22 -0000 (Thu, 09 May 2024) EndedAt: 2024-05-09 06:04:26 -0000 (Thu, 09 May 2024) EllapsedTime: 784.4 seconds RetCode: 0 Status: OK CheckDir: circRNAprofiler.Rcheck Warnings: 0