Package: cicero Version: 1.22.0 Command: rm -rf cicero.buildbin-libdir && mkdir cicero.buildbin-libdir && /Users/biocbuild/BBS/utils/build-universal.sh cicero_1.22.0.tar.gz /Library/Frameworks/R.framework/Resources/bin/R cicero.buildbin-libdir StartedAt: 2024-10-18 17:47:13 -0400 (Fri, 18 Oct 2024) EndedAt: 2024-10-18 17:48:35 -0400 (Fri, 18 Oct 2024) EllapsedTime: 82.8 seconds RetCode: 0 Status: OK PackageFile: cicero_1.22.0.tgz PackageFileSize: 1.274 MiB