Package: chromstaR Version: 1.30.0 Command: chmod a+r chromstaR -R && E:\biocbuild\bbs-3.19-bioc\R\bin\R.exe CMD build --keep-empty-dirs --no-resave-data chromstaR StartedAt: 2024-10-16 18:12:31 -0400 (Wed, 16 Oct 2024) EndedAt: 2024-10-16 18:19:02 -0400 (Wed, 16 Oct 2024) EllapsedTime: 391.1 seconds RetCode: 0 Status: OK PackageFile: chromstaR_1.30.0.tar.gz PackageFileSize: 6.767 MiB