Package: chromstaR Version: 1.30.0 Command: chmod a+r chromstaR -R && F:\biocbuild\bbs-3.19-bioc\R\bin\R.exe CMD build --keep-empty-dirs --no-resave-data chromstaR StartedAt: 2024-06-26 17:48:22 -0400 (Wed, 26 Jun 2024) EndedAt: 2024-06-26 17:54:29 -0400 (Wed, 26 Jun 2024) EllapsedTime: 367.1 seconds RetCode: 0 Status: OK PackageFile: chromstaR_1.30.0.tar.gz PackageFileSize: 6.764 MiB