Package: chromstaR Version: 1.30.0 Command: /Library/Frameworks/R.framework/Resources/bin/R CMD check --install=check:chromstaR.install-out.txt --library=/Library/Frameworks/R.framework/Resources/library --no-vignettes --timings chromstaR_1.30.0.tar.gz StartedAt: 2024-05-26 20:08:13 -0400 (Sun, 26 May 2024) EndedAt: 2024-05-26 20:15:56 -0400 (Sun, 26 May 2024) EllapsedTime: 463.0 seconds RetCode: 0 Status: OK CheckDir: chromstaR.Rcheck Warnings: 0