Package: chromstaR Version: 1.30.0 Command: rm -rf chromstaR.buildbin-libdir && mkdir chromstaR.buildbin-libdir && /Users/biocbuild/BBS/utils/build-universal.sh chromstaR_1.30.0.tar.gz /Library/Frameworks/R.framework/Resources/bin/R chromstaR.buildbin-libdir StartedAt: 2024-05-27 01:28:53 -0400 (Mon, 27 May 2024) EndedAt: 2024-05-27 01:29:51 -0400 (Mon, 27 May 2024) EllapsedTime: 58.5 seconds RetCode: 0 Status: OK PackageFile: chromstaR_1.30.0.tgz PackageFileSize: 6.601 MiB