Package: chromstaR Version: 1.30.0 Command: /home/biocbuild/R/R-beta-2024-04-15_r86425/bin/R CMD build --keep-empty-dirs --no-resave-data chromstaR StartedAt: 2024-05-08 23:17:35 -0000 (Wed, 08 May 2024) EndedAt: 2024-05-08 23:23:43 -0000 (Wed, 08 May 2024) EllapsedTime: 367.8 seconds RetCode: 1 Status: ERROR PackageFile: None PackageFileSize: NA