Package: chromstaR Version: 1.30.0 Command: /Library/Frameworks/R.framework/Resources/bin/R CMD build --keep-empty-dirs --no-resave-data chromstaR StartedAt: 2024-10-16 21:27:57 -0400 (Wed, 16 Oct 2024) EndedAt: 2024-10-16 21:33:50 -0400 (Wed, 16 Oct 2024) EllapsedTime: 353.3 seconds RetCode: 0 Status: OK PackageFile: chromstaR_1.30.0.tar.gz PackageFileSize: 6.776 MiB