Package: chromstaR Version: 1.30.0 Maintainer: Aaron Taudt MaintainerEmail: aaron.taudt at gmail.com git_url: https://git.bioconductor.org/packages/chromstaR git_branch: RELEASE_3_19 git_last_commit: d0560fd git_last_commit_date: 2024-04-30 10:51:52 -0400 (Tue, 30 Apr 2024)