Package: chromVAR Version: 1.26.0 Command: rm -rf chromVAR.buildbin-libdir && mkdir chromVAR.buildbin-libdir && E:\biocbuild\bbs-3.19-bioc\R\bin\R.exe CMD INSTALL --build --library=chromVAR.buildbin-libdir chromVAR_1.26.0.tar.gz StartedAt: 2024-10-17 07:32:15 -0400 (Thu, 17 Oct 2024) EndedAt: 2024-10-17 07:34:01 -0400 (Thu, 17 Oct 2024) EllapsedTime: 106.4 seconds RetCode: 0 Status: OK PackageFile: chromVAR_1.26.0.zip PackageFileSize: 1.599 MiB