Package: chromVAR Version: 1.26.0 Command: /Library/Frameworks/R.framework/Resources/bin/R CMD build --keep-empty-dirs --no-resave-data chromVAR StartedAt: 2024-10-16 17:56:42 -0400 (Wed, 16 Oct 2024) EndedAt: 2024-10-16 18:02:39 -0400 (Wed, 16 Oct 2024) EllapsedTime: 356.3 seconds RetCode: 0 Status: OK PackageFile: chromVAR_1.26.0.tar.gz PackageFileSize: 501.8 KiB