Package: chromVAR Version: 1.26.0 Command: /Library/Frameworks/R.framework/Resources/bin/R CMD INSTALL chromVAR StartedAt: 2024-10-16 17:26:38 -0400 (Wed, 16 Oct 2024) EndedAt: 2024-10-16 17:27:56 -0400 (Wed, 16 Oct 2024) EllapsedTime: 78.1 seconds RetCode: 0 Status: OK