Package: chromPlot Version: 1.32.0 Command: /home/biocbuild/bbs-3.19-bioc/R/bin/R CMD check --install=check:chromPlot.install-out.txt --library=/home/biocbuild/bbs-3.19-bioc/R/site-library --timings chromPlot_1.32.0.tar.gz StartedAt: 2024-10-16 22:43:54 -0400 (Wed, 16 Oct 2024) EndedAt: 2024-10-16 22:46:11 -0400 (Wed, 16 Oct 2024) EllapsedTime: 137.2 seconds RetCode: 0 Status: OK CheckDir: chromPlot.Rcheck Warnings: 0