Package: chromPlot Version: 1.32.0 Command: /Library/Frameworks/R.framework/Resources/bin/R CMD INSTALL chromPlot StartedAt: 2024-10-16 15:51:36 -0400 (Wed, 16 Oct 2024) EndedAt: 2024-10-16 15:52:15 -0400 (Wed, 16 Oct 2024) EllapsedTime: 39.8 seconds RetCode: 0 Status: OK