Package: chromDraw Version: 2.34.0 Command: E:\biocbuild\bbs-3.19-bioc\R\bin\R.exe CMD INSTALL chromDraw StartedAt: 2024-10-16 16:11:27 -0400 (Wed, 16 Oct 2024) EndedAt: 2024-10-16 16:12:23 -0400 (Wed, 16 Oct 2024) EllapsedTime: 56.0 seconds RetCode: 0 Status: OK