Package: chromDraw Version: 2.34.0 Command: /Library/Frameworks/R.framework/Resources/bin/R CMD INSTALL chromDraw StartedAt: 2024-10-16 15:15:20 -0400 (Wed, 16 Oct 2024) EndedAt: 2024-10-16 15:17:06 -0400 (Wed, 16 Oct 2024) EllapsedTime: 105.5 seconds RetCode: 0 Status: OK