Package: chromDraw Version: 2.34.0 Command: /Library/Frameworks/R.framework/Resources/bin/R CMD check --install=check:chromDraw.install-out.txt --library=/Library/Frameworks/R.framework/Resources/library --no-vignettes --timings chromDraw_2.34.0.tar.gz StartedAt: 2024-10-17 16:06:30 -0400 (Thu, 17 Oct 2024) EndedAt: 2024-10-17 16:08:07 -0400 (Thu, 17 Oct 2024) EllapsedTime: 96.5 seconds RetCode: 0 Status: WARNINGS CheckDir: chromDraw.Rcheck Warnings: 3