Package: chopsticks Version: 1.70.0 Command: chmod a+r chopsticks -R && E:\biocbuild\bbs-3.19-bioc\R\bin\R.exe CMD build --keep-empty-dirs --no-resave-data chopsticks StartedAt: 2024-10-16 18:11:28 -0400 (Wed, 16 Oct 2024) EndedAt: 2024-10-16 18:12:20 -0400 (Wed, 16 Oct 2024) EllapsedTime: 52.3 seconds RetCode: 0 Status: OK PackageFile: chopsticks_1.70.0.tar.gz PackageFileSize: 6.556 MiB