Package: chopsticks Version: 1.70.0 Command: chmod a+r chopsticks -R && F:\biocbuild\bbs-3.19-bioc\R\bin\R.exe CMD build --keep-empty-dirs --no-resave-data chopsticks StartedAt: 2024-06-26 17:47:21 -0400 (Wed, 26 Jun 2024) EndedAt: 2024-06-26 17:48:10 -0400 (Wed, 26 Jun 2024) EllapsedTime: 49.1 seconds RetCode: 0 Status: OK PackageFile: chopsticks_1.70.0.tar.gz PackageFileSize: 6.556 MiB