Package: chopsticks Version: 1.70.0 Command: rm -rf chopsticks.buildbin-libdir && mkdir chopsticks.buildbin-libdir && /Users/biocbuild/BBS/utils/build-universal.sh chopsticks_1.70.0.tar.gz /Library/Frameworks/R.framework/Resources/bin/R chopsticks.buildbin-libdir StartedAt: 2024-06-10 00:11:06 -0400 (Mon, 10 Jun 2024) EndedAt: 2024-06-10 00:11:30 -0400 (Mon, 10 Jun 2024) EllapsedTime: 24.5 seconds RetCode: 0 Status: OK PackageFile: chopsticks_1.70.0.tgz PackageFileSize: 5.393 MiB