Package: chopsticks Version: 1.70.0 Maintainer: Hin-Tak Leung MaintainerEmail: htl10 at users.sourceforge.net git_url: https://git.bioconductor.org/packages/chopsticks git_branch: RELEASE_3_19 git_last_commit: fffc376 git_last_commit_date: 2024-04-30 10:23:29 -0400 (Tue, 30 Apr 2024)