Package: chipseq Version: 1.54.0 Command: chmod a+r chipseq -R && E:\biocbuild\bbs-3.19-bioc\R\bin\R.exe CMD build --keep-empty-dirs --no-resave-data chipseq StartedAt: 2024-10-16 18:11:01 -0400 (Wed, 16 Oct 2024) EndedAt: 2024-10-16 18:14:53 -0400 (Wed, 16 Oct 2024) EllapsedTime: 232.3 seconds RetCode: 0 Status: OK PackageFile: chipseq_1.54.0.tar.gz PackageFileSize: 2.031 MiB