Package: chipseq Version: 1.54.0 Command: rm -rf chipseq.buildbin-libdir && mkdir chipseq.buildbin-libdir && F:\biocbuild\bbs-3.19-bioc\R\bin\R.exe CMD INSTALL --build --library=chipseq.buildbin-libdir chipseq_1.54.0.tar.gz StartedAt: 2024-06-27 07:59:05 -0400 (Thu, 27 Jun 2024) EndedAt: 2024-06-27 07:59:48 -0400 (Thu, 27 Jun 2024) EllapsedTime: 43.6 seconds RetCode: 0 Status: OK PackageFile: chipseq_1.54.0.zip PackageFileSize: 2.115 MiB