Package: chipseq Version: 1.54.0 Command: /home/biocbuild/bbs-3.19-bioc/R/bin/R CMD build --keep-empty-dirs --no-resave-data chipseq StartedAt: 2024-10-16 17:42:02 -0400 (Wed, 16 Oct 2024) EndedAt: 2024-10-16 17:45:06 -0400 (Wed, 16 Oct 2024) EllapsedTime: 184.3 seconds RetCode: 0 Status: OK PackageFile: chipseq_1.54.0.tar.gz PackageFileSize: 2.331 MiB