Package: chipseq Version: 1.54.0 Command: /Library/Frameworks/R.framework/Resources/bin/R CMD build --keep-empty-dirs --no-resave-data chipseq StartedAt: 2024-06-09 19:20:56 -0400 (Sun, 09 Jun 2024) EndedAt: 2024-06-09 19:24:51 -0400 (Sun, 09 Jun 2024) EllapsedTime: 235.3 seconds RetCode: 0 Status: OK PackageFile: chipseq_1.54.0.tar.gz PackageFileSize: 2.434 MiB