Package: chipseq Version: 1.54.0 Command: /Library/Frameworks/R.framework/Resources/bin/R CMD build --keep-empty-dirs --no-resave-data chipseq StartedAt: 2024-10-16 21:21:37 -0400 (Wed, 16 Oct 2024) EndedAt: 2024-10-16 21:25:23 -0400 (Wed, 16 Oct 2024) EllapsedTime: 225.6 seconds RetCode: 0 Status: OK PackageFile: chipseq_1.54.0.tar.gz PackageFileSize: 2.434 MiB