Package: chipenrich Version: 2.28.0 Command: F:\biocbuild\bbs-3.19-bioc\R\bin\R.exe CMD check --no-multiarch --install=check:chipenrich.install-out.txt --library=F:\biocbuild\bbs-3.19-bioc\R\library --no-vignettes --timings chipenrich_2.28.0.tar.gz StartedAt: 2024-06-27 00:00:47 -0400 (Thu, 27 Jun 2024) EndedAt: 2024-06-27 00:11:09 -0400 (Thu, 27 Jun 2024) EllapsedTime: 621.5 seconds RetCode: 0 Status: OK CheckDir: chipenrich.Rcheck Warnings: 0