Package: chipenrich Version: 2.28.0 Command: /home/biocbuild/R/R-beta-2024-04-15_r86425/bin/R CMD INSTALL chipenrich StartedAt: 2024-05-08 20:54:00 -0000 (Wed, 08 May 2024) EndedAt: 2024-05-08 20:54:58 -0000 (Wed, 08 May 2024) EllapsedTime: 58.2 seconds RetCode: 0 Status: OK