Package: chipenrich Version: 2.28.0 Command: /Library/Frameworks/R.framework/Resources/bin/R CMD check --install=check:chipenrich.install-out.txt --library=/Library/Frameworks/R.framework/Resources/library --no-vignettes --timings chipenrich_2.28.0.tar.gz StartedAt: 2024-06-10 10:16:39 -0400 (Mon, 10 Jun 2024) EndedAt: 2024-06-10 10:32:16 -0400 (Mon, 10 Jun 2024) EllapsedTime: 936.9 seconds RetCode: 0 Status: OK CheckDir: chipenrich.Rcheck Warnings: 0