Package: chipenrich Version: 2.28.0 Command: /Library/Frameworks/R.framework/Resources/bin/R CMD INSTALL chipenrich StartedAt: 2024-10-16 18:12:08 -0400 (Wed, 16 Oct 2024) EndedAt: 2024-10-16 18:12:59 -0400 (Wed, 16 Oct 2024) EllapsedTime: 50.7 seconds RetCode: 0 Status: OK