Package: chipenrich Version: 2.28.0 Command: rm -rf chipenrich.buildbin-libdir && mkdir chipenrich.buildbin-libdir && /Users/biocbuild/BBS/utils/build-universal.sh chipenrich_2.28.0.tar.gz /Library/Frameworks/R.framework/Resources/bin/R chipenrich.buildbin-libdir StartedAt: 2024-10-18 17:44:21 -0400 (Fri, 18 Oct 2024) EndedAt: 2024-10-18 17:45:20 -0400 (Fri, 18 Oct 2024) EllapsedTime: 58.7 seconds RetCode: 0 Status: OK PackageFile: chipenrich_2.28.0.tgz PackageFileSize: 880.5 KiB