Package: chihaya Version: 1.4.0 Command: chmod a+r chihaya -R && E:\biocbuild\bbs-3.19-bioc\R\bin\R.exe CMD build --keep-empty-dirs --no-resave-data chihaya StartedAt: 2024-10-16 18:09:32 -0400 (Wed, 16 Oct 2024) EndedAt: 2024-10-16 18:10:34 -0400 (Wed, 16 Oct 2024) EllapsedTime: 61.8 seconds RetCode: 0 Status: OK PackageFile: chihaya_1.4.0.tar.gz PackageFileSize: 258.2 KiB