Package: chihaya Version: 1.4.0 Command: F:\biocbuild\bbs-3.19-bioc\R\bin\R.exe CMD check --no-multiarch --install=check:chihaya.install-out.txt --library=F:\biocbuild\bbs-3.19-bioc\R\library --no-vignettes --timings chihaya_1.4.0.tar.gz StartedAt: 2024-06-26 23:59:24 -0400 (Wed, 26 Jun 2024) EndedAt: 2024-06-27 00:03:14 -0400 (Thu, 27 Jun 2024) EllapsedTime: 230.0 seconds RetCode: 0 Status: OK CheckDir: chihaya.Rcheck Warnings: 0