Package: chihaya Version: 1.4.0 Command: rm -rf chihaya.buildbin-libdir && mkdir chihaya.buildbin-libdir && F:\biocbuild\bbs-3.19-bioc\R\bin\R.exe CMD INSTALL --build --library=chihaya.buildbin-libdir chihaya_1.4.0.tar.gz StartedAt: 2024-06-27 07:58:47 -0400 (Thu, 27 Jun 2024) EndedAt: 2024-06-27 07:59:52 -0400 (Thu, 27 Jun 2024) EllapsedTime: 65.3 seconds RetCode: 0 Status: OK PackageFile: chihaya_1.4.0.zip PackageFileSize: 1.9 MiB