Package: chihaya Version: 1.4.0 Command: /home/biocbuild/bbs-3.19-bioc/R/bin/R CMD check --install=check:chihaya.install-out.txt --library=/home/biocbuild/bbs-3.19-bioc/R/site-library --timings chihaya_1.4.0.tar.gz StartedAt: 2024-10-16 22:41:26 -0400 (Wed, 16 Oct 2024) EndedAt: 2024-10-16 22:43:54 -0400 (Wed, 16 Oct 2024) EllapsedTime: 148.4 seconds RetCode: 0 Status: WARNINGS CheckDir: chihaya.Rcheck Warnings: 1