Package: chihaya Version: 1.4.0 Command: /home/biocbuild/R/R-beta-2024-04-15_r86425/bin/R CMD check --install=check:chihaya.install-out.txt --library=/home/biocbuild/R/R-beta-2024-04-15_r86425/site-library --no-vignettes --timings chihaya_1.4.0.tar.gz StartedAt: 2024-05-09 05:47:00 -0000 (Thu, 09 May 2024) EndedAt: 2024-05-09 05:49:53 -0000 (Thu, 09 May 2024) EllapsedTime: 173.4 seconds RetCode: 0 Status: WARNINGS CheckDir: chihaya.Rcheck Warnings: 1