Package: chihaya Version: 1.4.0 Command: /Library/Frameworks/R.framework/Resources/bin/R CMD check --install=check:chihaya.install-out.txt --library=/Library/Frameworks/R.framework/Resources/library --no-vignettes --timings chihaya_1.4.0.tar.gz StartedAt: 2024-06-10 10:15:23 -0400 (Mon, 10 Jun 2024) EndedAt: 2024-06-10 10:19:39 -0400 (Mon, 10 Jun 2024) EllapsedTime: 256.7 seconds RetCode: 0 Status: WARNINGS CheckDir: chihaya.Rcheck Warnings: 1