Package: chihaya Version: 1.4.0 Command: rm -rf chihaya.buildbin-libdir && mkdir chihaya.buildbin-libdir && /Users/biocbuild/BBS/utils/build-universal.sh chihaya_1.4.0.tar.gz /Library/Frameworks/R.framework/Resources/bin/R chihaya.buildbin-libdir StartedAt: 2024-06-11 10:32:01 -0400 (Tue, 11 Jun 2024) EndedAt: 2024-06-11 10:33:12 -0400 (Tue, 11 Jun 2024) EllapsedTime: 71.5 seconds RetCode: 0 Status: OK PackageFile: chihaya_1.4.0.tgz PackageFileSize: 1.574 MiB