Package: chihaya Version: 1.4.0 Command: /Library/Frameworks/R.framework/Resources/bin/R CMD build --keep-empty-dirs --no-resave-data chihaya StartedAt: 2024-10-16 21:17:07 -0400 (Wed, 16 Oct 2024) EndedAt: 2024-10-16 21:17:54 -0400 (Wed, 16 Oct 2024) EllapsedTime: 47.8 seconds RetCode: 0 Status: OK PackageFile: chihaya_1.4.0.tar.gz PackageFileSize: 258.1 KiB