Package: cghMCR Version: 1.62.0 Command: E:\biocbuild\bbs-3.19-bioc\R\bin\R.exe CMD check --no-multiarch --install=check:cghMCR.install-out.txt --library=E:\biocbuild\bbs-3.19-bioc\R\library --no-vignettes --timings cghMCR_1.62.0.tar.gz StartedAt: 2024-10-16 23:53:43 -0400 (Wed, 16 Oct 2024) EndedAt: 2024-10-16 23:56:13 -0400 (Wed, 16 Oct 2024) EllapsedTime: 150.6 seconds RetCode: 0 Status: WARNINGS CheckDir: cghMCR.Rcheck Warnings: 1