Package: cghMCR Version: 1.62.0 Command: chmod a+r cghMCR -R && E:\biocbuild\bbs-3.19-bioc\R\bin\R.exe CMD build --keep-empty-dirs --no-resave-data cghMCR StartedAt: 2024-10-16 18:08:56 -0400 (Wed, 16 Oct 2024) EndedAt: 2024-10-16 18:10:25 -0400 (Wed, 16 Oct 2024) EllapsedTime: 89.0 seconds RetCode: 0 Status: OK PackageFile: cghMCR_1.62.0.tar.gz PackageFileSize: 36.01 MiB