Package: cghMCR Version: 1.62.0 Command: rm -rf cghMCR.buildbin-libdir && mkdir cghMCR.buildbin-libdir && E:\biocbuild\bbs-3.19-bioc\R\bin\R.exe CMD INSTALL --build --library=cghMCR.buildbin-libdir cghMCR_1.62.0.tar.gz StartedAt: 2024-10-17 07:31:06 -0400 (Thu, 17 Oct 2024) EndedAt: 2024-10-17 07:32:07 -0400 (Thu, 17 Oct 2024) EllapsedTime: 61.3 seconds RetCode: 0 Status: OK PackageFile: cghMCR_1.62.0.zip PackageFileSize: 36.33 MiB