Package: cghMCR Version: 1.62.0 Command: rm -rf cghMCR.buildbin-libdir && mkdir cghMCR.buildbin-libdir && F:\biocbuild\bbs-3.19-bioc\R\bin\R.exe CMD INSTALL --build --library=cghMCR.buildbin-libdir cghMCR_1.62.0.tar.gz StartedAt: 2024-06-27 07:58:32 -0400 (Thu, 27 Jun 2024) EndedAt: 2024-06-27 07:59:36 -0400 (Thu, 27 Jun 2024) EllapsedTime: 64.4 seconds RetCode: 0 Status: OK PackageFile: cghMCR_1.62.0.zip PackageFileSize: 36.33 MiB