Package: cghMCR Version: 1.62.0 Command: /home/biocbuild/bbs-3.19-bioc/R/bin/R CMD check --install=check:cghMCR.install-out.txt --library=/home/biocbuild/bbs-3.19-bioc/R/site-library --timings cghMCR_1.62.0.tar.gz StartedAt: 2024-10-16 22:39:28 -0400 (Wed, 16 Oct 2024) EndedAt: 2024-10-16 22:42:08 -0400 (Wed, 16 Oct 2024) EllapsedTime: 159.3 seconds RetCode: 0 Status: WARNINGS CheckDir: cghMCR.Rcheck Warnings: 1