Package: cghMCR Version: 1.62.0 Command: /home/biocbuild/bbs-3.19-bioc/R/bin/R CMD build --keep-empty-dirs --no-resave-data cghMCR StartedAt: 2024-10-16 17:39:10 -0400 (Wed, 16 Oct 2024) EndedAt: 2024-10-16 17:40:14 -0400 (Wed, 16 Oct 2024) EllapsedTime: 64.1 seconds RetCode: 0 Status: OK PackageFile: cghMCR_1.62.0.tar.gz PackageFileSize: 36.01 MiB