Package: cghMCR Version: 1.62.0 Command: rm -rf cghMCR.buildbin-libdir && mkdir cghMCR.buildbin-libdir && /Users/biocbuild/BBS/utils/build-universal.sh cghMCR_1.62.0.tar.gz /Library/Frameworks/R.framework/Resources/bin/R cghMCR.buildbin-libdir StartedAt: 2024-10-17 15:49:44 -0400 (Thu, 17 Oct 2024) EndedAt: 2024-10-17 15:51:05 -0400 (Thu, 17 Oct 2024) EllapsedTime: 80.5 seconds RetCode: 0 Status: OK PackageFile: cghMCR_1.62.0.tgz PackageFileSize: 37.03 MiB