Package: cghMCR Version: 1.62.0 Command: /Library/Frameworks/R.framework/Resources/bin/R CMD check --install=check:cghMCR.install-out.txt --library=/Library/Frameworks/R.framework/Resources/library --no-vignettes --timings cghMCR_1.62.0.tar.gz StartedAt: 2024-06-09 19:21:28 -0400 (Sun, 09 Jun 2024) EndedAt: 2024-06-09 19:23:53 -0400 (Sun, 09 Jun 2024) EllapsedTime: 144.4 seconds RetCode: 0 Status: WARNINGS CheckDir: cghMCR.Rcheck Warnings: 1