Package: cghMCR Version: 1.62.0 Command: rm -rf cghMCR.buildbin-libdir && mkdir cghMCR.buildbin-libdir && /Users/biocbuild/BBS/utils/build-universal.sh cghMCR_1.62.0.tar.gz /Library/Frameworks/R.framework/Resources/bin/R cghMCR.buildbin-libdir StartedAt: 2024-06-10 00:10:49 -0400 (Mon, 10 Jun 2024) EndedAt: 2024-06-10 00:11:32 -0400 (Mon, 10 Jun 2024) EllapsedTime: 43.7 seconds RetCode: 0 Status: OK PackageFile: cghMCR_1.62.0.tgz PackageFileSize: 37.03 MiB