Package: cghMCR Version: 1.62.0 Command: /home/biocbuild/R/R-beta-2024-04-15_r86425/bin/R CMD check --install=check:cghMCR.install-out.txt --library=/home/biocbuild/R/R-beta-2024-04-15_r86425/site-library --no-vignettes --timings cghMCR_1.62.0.tar.gz StartedAt: 2024-05-09 05:44:36 -0000 (Thu, 09 May 2024) EndedAt: 2024-05-09 05:47:21 -0000 (Thu, 09 May 2024) EllapsedTime: 165.3 seconds RetCode: 0 Status: WARNINGS CheckDir: cghMCR.Rcheck Warnings: 1