Package: cghMCR Version: 1.62.0 Command: /Library/Frameworks/R.framework/Resources/bin/R CMD INSTALL cghMCR StartedAt: 2024-10-16 18:15:29 -0400 (Wed, 16 Oct 2024) EndedAt: 2024-10-16 18:15:53 -0400 (Wed, 16 Oct 2024) EllapsedTime: 23.9 seconds RetCode: 0 Status: OK